BEGIN:VCALENDAR
VERSION:2.0
CALSCALE:GREGORIAN
BEGIN:VEVENT
SUMMARY:2026 New York City CycleNation
UID:fr_id12460
URL:http://www2.heart.org/site/PageServer?pagename=cn_ical&fr_id=12460&pgwrap=n
DTSTAMP:20260312T170000Z
LOCATION:Terminal Warehouse **Enter from 11th Ave** | 261 11th Avenue | New York, NY 10001, New York City, NY
ORGANIZER;CN=Your CycleNation Care Team:MAILTO:nyccyclenation@heart.org

DTSTART:20260312
DTSTART;VALUE=DATE:20260312
DTEND;VALUE=DATE:20260312
DESCRIPTION:Visit CycleNation for event schedule and more details at http\://www2.heart.org/site/TR?fr_id=12460.
END:VEVENT
END:VCALENDAR
