BEGIN:VCALENDAR
VERSION:2.0
CALSCALE:GREGORIAN
BEGIN:VEVENT
SUMMARY:Phoenix CycleNation
UID:fr_id12584
URL:http://www2.heart.org/site/PageServer?pagename=cn_ical&fr_id=12584&pgwrap=n
DTSTAMP:20260509T170000Z
LOCATION:Estrella | 10300 Estrella Parkway | Goodyear, AZ 85338, Phoenix, AZ
ORGANIZER;CN=Your CycleNation Care Team:MAILTO:PhoenixHW@heart.org

DTSTART:20260509
DTSTART;VALUE=DATE:20260509
DTEND;VALUE=DATE:20260509
DESCRIPTION:Visit CycleNation for event schedule and more details at http\://www2.heart.org/site/TR?fr_id=12584.
END:VEVENT
END:VCALENDAR
